BEGIN:VCALENDAR
VERSION:2.0
PRODID:-//www.harvesthill.org//NONSGML kigkonsult.se iCalcreator 2.39.1//
CALSCALE:GREGORIAN
METHOD:PUBLISH
UID:f6d4584c-c894-4ba7-ac17-67ed4050ff29
X-WR-CALNAME:www.harvesthill.org
X-WR-CALDESC:www.harvesthill.org
X-WR-TIMEZONE:America/Los_Angeles
X-LIC-LOCATION:America/Los_Angeles
BEGIN:VEVENT
UID:c14ab967-2e1c-4f03-8efc-93278ce3ee36
DTSTAMP:20260421T080447Z
CLASS:PUBLIC
DTSTART;TZID=America/Los_Angeles:20250917T183000
DTEND;TZID=America/Los_Angeles:20250917T200000
LOCATION:Harvest Hill
SUMMARY:Wednesday Night Live!
TRANSP:OPAQUE
BEGIN:VALARM
ACTION:DISPLAY
DESCRIPTION:Wednesday Night Live!
TRIGGER:-PT15M
END:VALARM
END:VEVENT
END:VCALENDAR
