BEGIN:VCALENDAR
VERSION:2.0
PRODID:-//www.harvesthill.org//NONSGML kigkonsult.se iCalcreator 2.39.1//
CALSCALE:GREGORIAN
METHOD:PUBLISH
UID:1a6e4f3a-289f-4898-b90a-6852a1c59dc1
X-WR-CALNAME:www.harvesthill.org
X-WR-CALDESC:www.harvesthill.org
X-WR-TIMEZONE:America/Los_Angeles
X-LIC-LOCATION:America/Los_Angeles
BEGIN:VEVENT
UID:83300858-af6d-44db-a23e-c7115f77d029
DTSTAMP:20260420T094511Z
CLASS:PUBLIC
DTSTART;TZID=America/Los_Angeles:20260420T061500
DTEND;TZID=America/Los_Angeles:20260420T070000
SUMMARY:Men's Prayer Gathering
TRANSP:OPAQUE
BEGIN:VALARM
ACTION:DISPLAY
DESCRIPTION:Men's Prayer Gathering
TRIGGER:-PT15M
END:VALARM
END:VEVENT
END:VCALENDAR
