BEGIN:VCALENDAR
VERSION:2.0
PRODID:-//www.harvesthill.org//NONSGML kigkonsult.se iCalcreator 2.39.1//
CALSCALE:GREGORIAN
METHOD:PUBLISH
UID:d8214b08-ca6d-47e9-b328-0822e3a5bb4a
X-WR-CALNAME:www.harvesthill.org
X-WR-CALDESC:www.harvesthill.org
X-WR-TIMEZONE:America/Los_Angeles
X-LIC-LOCATION:America/Los_Angeles
BEGIN:VEVENT
UID:1161464c-5a58-4d79-b276-b45a7aa10beb
DTSTAMP:20260425T141401Z
CLASS:PUBLIC
DTSTART;TZID=America/Los_Angeles:20260426T090000
DTEND;TZID=America/Los_Angeles:20260426T100000
SUMMARY:Women's Bible Study
TRANSP:OPAQUE
BEGIN:VALARM
ACTION:DISPLAY
DESCRIPTION:Women's Bible Study
TRIGGER:-PT15M
END:VALARM
END:VEVENT
END:VCALENDAR
