BEGIN:VCALENDAR
VERSION:2.0
PRODID:-//www.harvesthill.org//NONSGML kigkonsult.se iCalcreator 2.39.1//
CALSCALE:GREGORIAN
METHOD:PUBLISH
UID:cc656910-daba-47eb-8336-cd2bac638fa1
X-WR-CALNAME:www.harvesthill.org
X-WR-CALDESC:www.harvesthill.org
X-WR-TIMEZONE:America/Los_Angeles
X-LIC-LOCATION:America/Los_Angeles
BEGIN:VEVENT
UID:d35e5597-6d1b-485e-9682-fbff6391c40c
DTSTAMP:20260424T033922Z
CLASS:PUBLIC
DTSTART;TZID=America/Los_Angeles:20260423T190000
DTEND;TZID=America/Los_Angeles:20260423T200000
SUMMARY:Men's Bible Study
TRANSP:OPAQUE
BEGIN:VALARM
ACTION:DISPLAY
DESCRIPTION:Men's Bible Study
TRIGGER:-PT15M
END:VALARM
END:VEVENT
END:VCALENDAR
